BEGIN:VCALENDAR
BEGIN:VEVENT
SUMMARY:Finale: Joey Beltram\, TYGAPAW\, Augustus Muller\, Arvin T + BEARC
 AT\, WTCHCRFT [nycnoise]
DTSTART:20250427T013000Z
DTEND:20250427T023000Z
UID:3397a79e-552a-4b31-97f5-f6a302f080f2
CREATED:20260420T145246Z
DESCRIPTION:🇵🇸 PACBI
LOCATION:paragon (990 broadway\, brooklyn)
END:VEVENT
END:VCALENDAR
