BEGIN:VCALENDAR
BEGIN:VEVENT
SUMMARY:NYC Emergency Mobilization: All Out for Mahmoud! [nycnoise]
DTSTART:20250412T210000Z
DTEND:20250412T220000Z
UID:a7772c63-f11a-415a-8025-25a79cbda1a9
CREATED:20260420T145506Z
DESCRIPTION:🇵🇸 "...an immigration judge in Louisiana ruled that the 
 Trump administration can deport Mahmoud Khalil. But the fight is far from 
 over..."
LOCATION:times square (Manhattan\, NY 10036)
END:VEVENT
END:VCALENDAR
