BEGIN:VCALENDAR
BEGIN:VEVENT
SUMMARY:Brackish music & art: Black Sundance (Emperor King Bishop\, Trae C
 rudup III\, Alicia Mountain\, Alex Koi\, Jomani Danielle) [nycnoise]
DTSTART:20250425T000000Z
DTEND:20250425T010000Z
UID:bf550ae6-35e1-4efd-8d1e-30cb62100ae5
CREATED:20260420T145558Z
DESCRIPTION:
LOCATION:304 bond (304 Bond St\, Brooklyn\, NY 11231)
END:VEVENT
END:VCALENDAR
