BEGIN:VCALENDAR
BEGIN:VEVENT
SUMMARY:Tiny Slices: Will Evans\, gabby fluke-mogul\, Adam Turay\, 5 Minut
 e Stories [nycnoise]
DTSTART:20250525T230000Z
DTEND:20250526T000000Z
UID:43e9bebf-24be-4e9f-8ac1-b9f23897de66
CREATED:20260420T145607Z
DESCRIPTION:6pm vegan potluck\, 7pm words music performance\, "bring a sto
 ry to share\," guest host samantha kochis
LOCATION:wee space
END:VEVENT
END:VCALENDAR
