BEGIN:VCALENDAR
BEGIN:VEVENT
SUMMARY:Tiny Slices: Adina Weinstein\, Cary O'Brien\, Larry Locust\, 5 Min
 ute Stories [nycnoise]
DTSTART:20250629T230000Z
DTEND:20250630T000000Z
UID:440ef478-2cde-4e2d-b11d-17485e529ad4
CREATED:20260420T145347Z
DESCRIPTION:6pm vegan potluck\, 7pm words music performance\, "bring a sto
 ry to share"
LOCATION:wee space
END:VEVENT
END:VCALENDAR
