BEGIN:VCALENDAR
BEGIN:VEVENT
SUMMARY:Alex Asher 'Slow Motion' [nycnoise]
DTSTART:20250516T010000Z
DTEND:20250516T020000Z
UID:c51d45c2-7a38-47b4-9c2a-10afd45f529e
CREATED:20260420T145416Z
DESCRIPTION:
LOCATION:dada (6047 Myrtle Ave\, Queens\, NY 11385)
END:VEVENT
END:VCALENDAR
