BEGIN:VCALENDAR
BEGIN:VEVENT
SUMMARY:420 LOGOUT X BLURSDAY RECLAMATION: No Knock\, Matar\, Cruciform\, 
 Tower of One\, Warkrusher [nycnoise]
DTSTART:20250421T003000Z
DTEND:20250421T013000Z
UID:cffbacaf-132d-49ef-97b3-58a8c533bb04
CREATED:20260420T145357Z
DESCRIPTION:"Fundraiser for a family of five in Gaza"
LOCATION:<p><strong>tba&nbsp\;</strong>(announced day-of)</p>
END:VEVENT
END:VCALENDAR
