BEGIN:VCALENDAR
BEGIN:VEVENT
SUMMARY:Josephine Foster / David Shapiro / Ryan Sawyer\, Wendy Eisenberg [
 nycnoise]
DTSTART:20250424T220000Z
DTEND:20250424T230000Z
UID:2b654c3c-ffef-4d96-801f-2da98dabec17
CREATED:20260420T145552Z
DESCRIPTION:🇵🇸 PACBI
LOCATION:p.i.t. (property is theft) (411 s. 5th st.\, brooklyn)
END:VEVENT
END:VCALENDAR
