BEGIN:VCALENDAR
BEGIN:VEVENT
SUMMARY:Outlier Presents: Alex Cunningham / Michael Foster / Webb Crawford
 \, Warp Duo (Levy Lui & Scott Li) [nycnoise]
DTSTART:20250427T230000Z
DTEND:20250428T000000Z
UID:3d63ad08-126e-4f16-9dba-30de9177e127
CREATED:20260420T145503Z
DESCRIPTION:🇵🇸 PACBI
LOCATION:p.i.t. (property is theft) (411 s. 5th st.\, brooklyn)
END:VEVENT
END:VCALENDAR
