BEGIN:VCALENDAR
BEGIN:VEVENT
SUMMARY:Black Earth Strings (Teddy Rankin Parker\, Mazz Swift\, Melanie Dy
 er\, Anna Abandolo\, Nicole Mitchell) [nycnoise]
DTSTART:20250802T003000Z
DTEND:20250802T013000Z
UID:91a30d0a-c674-430b-91cc-c0e522de8eac
CREATED:20260420T145324Z
DESCRIPTION:
LOCATION:stone (55 w. 13th st.\, manhattan)
END:VEVENT
END:VCALENDAR
