BEGIN:VCALENDAR
BEGIN:VEVENT
SUMMARY:Porcelain Vivisection [nycnoise]
DTSTART:20250415T233000Z
DTEND:20250416T003000Z
UID:0c4733b2-f95b-4547-b41f-f42819fddce2
CREATED:20260420T145546Z
DESCRIPTION:
LOCATION:wonderville (1186 broadway\, brooklyn)
END:VEVENT
END:VCALENDAR
