BEGIN:VCALENDAR
BEGIN:VEVENT
SUMMARY:VJOLTRON: VJ Meet & Gear Demos\, Messica Arson A/V\, Zerez X Dani 
 Rev\, Viz_Wel & Joey Machina\, VJOLTRON A/V Jam [nycnoise]
DTSTART:20250415T000000Z
DTEND:20250415T010000Z
UID:b5cf1cc1-7289-423f-991d-d476d627a60c
CREATED:20260420T145346Z
DESCRIPTION:
LOCATION:millennium film workshop (167 Wilson Ave\, Brooklyn\, NY 11237)
END:VEVENT
END:VCALENDAR
