BEGIN:VCALENDAR
BEGIN:VEVENT
SUMMARY:Brooklyn Experimental Electronic: Sunday\, Eric Singer\, Steady Dr
 ipp\, Thistle &amp\; Playground\, Crew Called Self [nycnoise]
DTSTART:20250424T230000Z
DTEND:20250425T000000Z
UID:f11fff01-1ae5-4685-901d-43648897fed4
CREATED:20260420T145330Z
DESCRIPTION:
LOCATION:wonderville (1186 broadway\, brooklyn)
END:VEVENT
END:VCALENDAR
