BEGIN:VCALENDAR
BEGIN:VEVENT
SUMMARY:VIO/LA: Jessica Pavone\, Charles Burnham\, Che Buford\, Alex Cunni
 ngham\, Trina Basu\, Jason Kao Hwang\, Sana Nagano\, Arun Ramamurthy\, Ana
  Luisa Díaz de Cossío Sánchez [nycnoise]
DTSTART:20250426T003000Z
DTEND:20250426T013000Z
UID:b355a535-8ec9-405a-ace0-2003d6f3ed07
CREATED:20260420T145554Z
DESCRIPTION:
LOCATION:ibeam (168 7th st.\, brooklyn)
END:VEVENT
END:VCALENDAR
