BEGIN:VCALENDAR
BEGIN:VEVENT
SUMMARY:ABC No Rio Fundraiser: Septic Vomit\, Artificial Scarcity\, Bayht 
 Lahm\, Eyecatcher [nycnoise]
DTSTART:20250526T230000Z
DTEND:20250527T000000Z
UID:e8b784c4-1af6-4699-af83-6fd1259dc1da
CREATED:20260420T145452Z
DESCRIPTION:fundraiser for ABC No Rio!
LOCATION:wonderville (1186 broadway\, brooklyn)
END:VEVENT
END:VCALENDAR
