BEGIN:VCALENDAR
BEGIN:VEVENT
SUMMARY:Unscripted Soundscapes: Drew Wesely / TJ Borden / Nick Neuburg\, C
 eline Kang / Ivan Chen / Kayla Kessler / Josh Mathew\, Jeff Miles / Anthon
 y Coleman / Ken Filiano / Ken Kobayashi [nycnoise]
DTSTART:20250426T220000Z
DTEND:20250426T230000Z
UID:72169a67-f474-4f6b-b7fb-90c4ef528b38
CREATED:20260420T145609Z
DESCRIPTION:
LOCATION:ibeam (168 7th st.\, brooklyn)
END:VEVENT
END:VCALENDAR
