BEGIN:VCALENDAR
BEGIN:VEVENT
SUMMARY:The Pigeon Pack presents A Punk Island Benefit: Big Scary Indian\,
  Mareko & the Slores\, Speakeasy\, Come Culo [nycnoise]
DTSTART:20250525T220000Z
DTEND:20250525T230000Z
UID:9389b9c1-0c6c-4c95-9564-8d53e8c530ad
CREATED:20260420T145410Z
DESCRIPTION:😷 masks encouraged
LOCATION:wonderville (1186 broadway\, brooklyn)
END:VEVENT
END:VCALENDAR
