BEGIN:VCALENDAR
BEGIN:VEVENT
SUMMARY:Benefit Show for a Bklyn Family Facing Eviction: cashonlytony's\, 
 Holidays in the United States\, Risk.Yo.Life\, ideas 4 conversations [nycn
 oise]
DTSTART:20250420T190000Z
DTEND:20250420T200000Z
UID:ee2b2603-a6f3-460d-81f6-ede64f23e637
CREATED:20260420T145448Z
DESCRIPTION:"benefit show for a Brooklyn family facing eviction!"
LOCATION:living gallery (1094 broadway\, brooklyn)
END:VEVENT
END:VCALENDAR
