BEGIN:VCALENDAR
BEGIN:VEVENT
SUMMARY:NYC Emergency Mobilization: All Out for Mohsen Mahdawi: Stop the D
 eportations! [nycnoise]
DTSTART:20250415T150000Z
DTEND:20250415T160000Z
UID:0565acdf-184c-4d5a-94ee-88f78e6ed164
CREATED:20260420T145357Z
DESCRIPTION:🇵🇸 "Just hours ago\, Palestinian green card holder and C
 olumbia student\, Mohsen Mahdawi\, was detained by ICE..."
LOCATION:foley square (New York\, NY 10013)
END:VEVENT
END:VCALENDAR
