BEGIN:VCALENDAR
BEGIN:VEVENT
SUMMARY:Food Corps\, Qualiatik\, 0OPHORO\, Latinacroft\, Physikalmydia [ny
 cnoise]
DTSTART:20250422T230000Z
DTEND:20250423T000000Z
UID:aec00089-5d20-48cc-b786-643d422ba22d
CREATED:20260420T145601Z
DESCRIPTION:
LOCATION:living gallery (1094 broadway\, brooklyn)
END:VEVENT
END:VCALENDAR
