BEGIN:VCALENDAR
BEGIN:VEVENT
SUMMARY:Strange Animations // MOON: Aesop's Sound Fables\, Perraneu [nycno
 ise]
DTSTART:20250424T233000Z
DTEND:20250425T003000Z
UID:8530c24e-b82c-4fdc-89d4-67921009c2ea
CREATED:20260420T145537Z
DESCRIPTION:"screening of silent animated films w/ live music"
LOCATION:baker falls (192 Allen St\, New York\, NY 10002)
END:VEVENT
END:VCALENDAR
