BEGIN:VCALENDAR
BEGIN:VEVENT
SUMMARY:Pelvic Resonance 01: VILE\, kozha\, Concrete Husband [nycnoise]
DTSTART:20250417T020000Z
DTEND:20250417T030000Z
UID:5e53d96c-287d-4f74-939b-c24bda6cdf35
CREATED:20260420T145459Z
DESCRIPTION:🇵🇸 PACBI
LOCATION:bossa nova civic club (1271 myrtle ave\, brooklyn)
END:VEVENT
END:VCALENDAR
