BEGIN:VCALENDAR
BEGIN:VEVENT
SUMMARY:Rollup: CRRDR\, Meritxell De Soto\, zorenLo [nycnoise]
DTSTART:20250419T020000Z
DTEND:20250419T030000Z
UID:fe847d67-c806-499c-9dd4-627749523803
CREATED:20260420T145413Z
DESCRIPTION:🇵🇸 PACBI
LOCATION:bossa nova civic club (1271 myrtle ave\, brooklyn)
END:VEVENT
END:VCALENDAR
