BEGIN:VCALENDAR
BEGIN:VEVENT
SUMMARY:Amulet\, God Boat\, Cal Fish\, Alicedoescomputermusic [nycnoise]
DTSTART:20250417T000000Z
DTEND:20250417T010000Z
UID:774b61a2-5e23-4a8e-ac2e-0ab3b94686a8
CREATED:20260420T145201Z
DESCRIPTION:
LOCATION:living gallery (1094 broadway\, brooklyn)
END:VEVENT
END:VCALENDAR
