BEGIN:VCALENDAR
BEGIN:VEVENT
SUMMARY:Open Door: River L. Ramirez: 'Healing Is Over' Night #1/2 (ft. Hol
 land Andrews) [nycnoise]
DTSTART:20250418T230000Z
DTEND:20250419T000000Z
UID:1062f488-f2f5-4561-a7fb-e792ca37fe38
CREATED:20260420T145548Z
DESCRIPTION:
LOCATION:cpr (center for performance research) (361 manhattan ave\, brookl
 yn)
END:VEVENT
END:VCALENDAR
