BEGIN:VCALENDAR
BEGIN:VEVENT
SUMMARY:jess tsang + xuan\, dogsbody (Amy Garapic\, Anna Meadors\, Liz Fau
 re\, Nicole Patrick\, Tsang) [nycnoise]
DTSTART:20250421T230000Z
DTEND:20250422T000000Z
UID:64a228f9-c346-4bb9-b938-3addaee2b115
CREATED:20260420T145539Z
DESCRIPTION:"donations appreciated\," last days of sunview\, link to flyer
LOCATION:sunview luncheonette (221 nassau ave\, brooklyn)
END:VEVENT
END:VCALENDAR
