BEGIN:VCALENDAR
BEGIN:VEVENT
SUMMARY:Patrick K.-H.: Floating Sound Gallery Vienna [nycnoise]
DTSTART:20250421T000000Z
DTEND:20250421T010000Z
UID:39264924-1412-4236-89bd-cf5b6f28608c
CREATED:20260420T145538Z
DESCRIPTION:works by Christian Eloy\, Qingqing Teng\, Martyna Kosecka\, Je
 an Schwarz / Daniel Teruggi\, Armando Balice\, Katharina Klement / Axel D&
 ouml\;rner / Patrick K.-H.
LOCATION:fridman gallery (169 bowery\, manhattan)
END:VEVENT
END:VCALENDAR
