BEGIN:VCALENDAR
BEGIN:VEVENT
SUMMARY:New Ear presents: Joy Guidry / SCRAAATCH / MAYSUN\, Myles Ortiz-Gr
 een [nycnoise]
DTSTART:20250510T230000Z
DTEND:20250511T000000Z
UID:4fe3d480-da64-4ac8-9426-1878cbbb356e
CREATED:20260420T145329Z
DESCRIPTION:
LOCATION:fridman gallery (169 bowery\, manhattan)
END:VEVENT
END:VCALENDAR
