BEGIN:VCALENDAR
BEGIN:VEVENT
SUMMARY:SOUND CHECK | A Trance Atlantic Affair: Gavilán Rayna Russom\, Le
 afy Greens\, 98dots\, Downloadable Content\, Very J [nycnoise]
DTSTART:20250419T020000Z
DTEND:20250419T030000Z
UID:bd5dde9a-d441-4d96-bd2a-35b317d7784c
CREATED:20260420T145349Z
DESCRIPTION:
LOCATION:sugar hill disco (217 Nostrand Ave\, Brooklyn\, NY 11205)
END:VEVENT
END:VCALENDAR
