BEGIN:VCALENDAR
BEGIN:VEVENT
SUMMARY:Jan Jelinek\, Andrew Pekler [nycnoise]
DTSTART:20250420T230000Z
DTEND:20250421T000000Z
UID:10949410-7e99-41a5-9098-f24049d1bf95
CREATED:20260420T145326Z
DESCRIPTION:
LOCATION:public records' sound room (233 butler st.\, brooklyn)
END:VEVENT
END:VCALENDAR
