BEGIN:VCALENDAR
BEGIN:VEVENT
SUMMARY:Show Brain x Genre is Death present BLACK TIE NITE OF NOIZZ & WORD
 S: The Art Gray Noizz Quintet\, Joseph Keckler\, Genre is Death\, Avishag 
 Cohen Rodrigues (cumgirl8)\, & more [nycnoise]
DTSTART:20250519T000000Z
DTEND:20250519T010000Z
UID:69dbd92f-ee45-400e-bc96-38d4b92d7f60
CREATED:20260420T145413Z
DESCRIPTION:"wear a suit\, warn yr friends"
LOCATION:madame x (94 W Houston St\, New York\, NY 10012)
END:VEVENT
END:VCALENDAR
