BEGIN:VCALENDAR
BEGIN:VEVENT
SUMMARY:Kevin Shea / Even Palmer / Kaelen Ghandhi\, Ryan Siegel / Carolin 
 Morton / Jarred Chase\, Independent flotation device (Rick Parker\, Matt H
 ollenberg\, Patrick Golden) [nycnoise]
DTSTART:20250424T000000Z
DTEND:20250424T010000Z
UID:37ddc550-3c07-4269-9140-20909e2358c2
CREATED:20260420T145608Z
DESCRIPTION:7:30pm doors
LOCATION:hart bar (538 hart st.\, brooklyn)
END:VEVENT
END:VCALENDAR
