BEGIN:VCALENDAR
BEGIN:VEVENT
SUMMARY:Marc Edwards & Slipstream Time Travel [nycnoise]
DTSTART:20250517T000000Z
DTEND:20250517T010000Z
UID:6e436115-df42-44b2-8e50-593cbebeecce
CREATED:20260420T145456Z
DESCRIPTION:"an evening of improvised\, experimental music" + enjoy this w
 holesome flyer :') compliments&nbsp\;marc\, in the middle
LOCATION:freddy's (627 5th ave\, brooklyn)
END:VEVENT
END:VCALENDAR
