BEGIN:VCALENDAR
BEGIN:VEVENT
SUMMARY:ONKAN 音間: Richard Sylvarnes\, Ur.X (Enkidu rankX & Uri Killisc
 h)\, Daniel Carter / Ayumi Ishito / Bradley Eros (film) [nycnoise]
DTSTART:20250420T233000Z
DTEND:20250421T003000Z
UID:a361b4c7-d248-434d-9e7b-666fb8c49555
CREATED:20260420T145541Z
DESCRIPTION:
LOCATION:synesthesia
END:VEVENT
END:VCALENDAR
