BEGIN:VCALENDAR
BEGIN:VEVENT
SUMMARY:Green House presents: Connor Hanwick\, Telo Hoy\, Concourse [nycno
 ise]
DTSTART:20250511T000000Z
DTEND:20250511T010000Z
UID:295deffb-d02f-4643-ad78-5a2f736b3c4e
CREATED:20260420T145459Z
DESCRIPTION:"a night of ambient music"
LOCATION:godspeed arts (130 Palmetto St\, Brooklyn\, NY 11221)
END:VEVENT
END:VCALENDAR
