BEGIN:VCALENDAR
BEGIN:VEVENT
SUMMARY:Torture & The Desert Spiders Residency [nycnoise]
DTSTART:20250422T233000Z
DTEND:20250423T003000Z
UID:653d342b-1dd6-40ac-bb83-c28f6e70ee0e
CREATED:20260420T145411Z
DESCRIPTION:7pm doors
LOCATION:baker falls (192 Allen St\, New York\, NY 10002)
END:VEVENT
END:VCALENDAR
