BEGIN:VCALENDAR
BEGIN:VEVENT
SUMMARY:Torture & The Desert Spiders Residency [nycnoise]
DTSTART:20250429T233000Z
DTEND:20250430T003000Z
UID:54d156e5-0ddb-4f18-ab84-06ed2729792e
CREATED:20260420T145413Z
DESCRIPTION:7pm doors
LOCATION:baker falls (192 Allen St\, New York\, NY 10002)
END:VEVENT
END:VCALENDAR
