BEGIN:VCALENDAR
BEGIN:VEVENT
SUMMARY:InfraSound performs works by Katherine Balch\, Eva-Marie Houben\, 
 Mario Diaz de Leon\, Susan Botti\, Day #2/3 [nycnoise]
DTSTART:20250427T000000Z
DTEND:20250427T010000Z
UID:acf664d2-0d46-499a-ac6b-fe48a979366c
CREATED:20260420T145414Z
DESCRIPTION:
LOCATION:st. malachy's / the actors' chapel (Saint Malachy's Roman Catholi
 c Church\, 239 W 49th St\, New York\, NY 10019)
END:VEVENT
END:VCALENDAR
