BEGIN:VCALENDAR
BEGIN:VEVENT
SUMMARY:Chaos Warp Presents Machine Girl's 10+ Years Wlfgrl!!! Anniversary
 : DJ Machine Girl\, Five Star Hotel (live)\, Yesterdayneverhappened\, DJ N
 ecroface\, DJ Chaotic Ugly [nycnoise]
DTSTART:20250518T030000Z
DTEND:20250518T040000Z
UID:d7f8bdd2-d7aa-429a-97ed-c9f0fa983837
CREATED:20260420T145505Z
DESCRIPTION:🇵🇸 PACBI&nbsp\;(chaos warp)
LOCATION:trans-pecos (9-15 wyckoff ave\, ridgewood)
END:VEVENT
END:VCALENDAR
