BEGIN:VCALENDAR
BEGIN:VEVENT
SUMMARY:Asian American Unity Hardcore Punk Showcase\, Day #1/2: Brainwashe
 d\, Dog Breath\, Mässgrief\, Namatay Say Ingay\, No Model\, Yankee Bastar
 d\, The Tarrys [nycnoise]
DTSTART:20250503T203000Z
DTEND:20250503T213000Z
UID:edfef3ce-cead-4cf5-9a4e-f2b00d1a3cb9
CREATED:20260420T145409Z
DESCRIPTION:
LOCATION:trans-pecos (9-15 wyckoff ave\, ridgewood)
END:VEVENT
END:VCALENDAR
