BEGIN:VCALENDAR
BEGIN:VEVENT
SUMMARY:Asian American Unity Hardcore Punk Showcase\, Day #2/2: Balisong\,
  Cherub Chains\, Ferment\, Fröthing Mad\, God Instinct\, Private Mind\, S
 our\, Warden [nycnoise]
DTSTART:20250504T220000Z
DTEND:20250504T230000Z
UID:121580e7-da2a-48a1-8773-949d850d5471
CREATED:20260420T145339Z
DESCRIPTION:
LOCATION:tv eye (1647 Weirfield St\, Ridgewood\, NY 11385)
END:VEVENT
END:VCALENDAR
