BEGIN:VCALENDAR
BEGIN:VEVENT
SUMMARY:Smootaphilia: Ensemble Erotic live scores 'Emmanuelle' [nycnoise]
DTSTART:20250429T230000Z
DTEND:20250430T000000Z
UID:71c0de08-bfec-4474-a5d5-3a2e0dafd5de
CREATED:20260420T145328Z
DESCRIPTION:
LOCATION:tv eye (1647 Weirfield St\, Ridgewood\, NY 11385)
END:VEVENT
END:VCALENDAR
