BEGIN:VCALENDAR
BEGIN:VEVENT
SUMMARY:Prison\, Sleepy Doug Shaw\, Pure Horsehair [nycnoise]
DTSTART:20250514T233000Z
DTEND:20250515T003000Z
UID:8bf1178e-a808-436b-8420-4920f21db631
CREATED:20260420T145142Z
DESCRIPTION:7pm doors
LOCATION:union pool (484 union ave\, brooklyn)
END:VEVENT
END:VCALENDAR
