BEGIN:VCALENDAR
BEGIN:VEVENT
SUMMARY:Erin Durant\, Kyp Malone\, Sleepy Doug Shaw [nycnoise]
DTSTART:20250528T233000Z
DTEND:20250529T003000Z
UID:03061dd5-105d-4a62-9fb0-f3441d8215af
CREATED:20260420T145543Z
DESCRIPTION:7pm doors
LOCATION:union pool (484 union ave\, brooklyn)
END:VEVENT
END:VCALENDAR
