BEGIN:VCALENDAR
BEGIN:VEVENT
SUMMARY:WORK CHURCH #2 [nycnoise]
DTSTART:20250426T183000Z
DTEND:20250426T193000Z
UID:3d9f59eb-fe7a-4050-b1be-ae801180ba1c
CREATED:20260420T145345Z
DESCRIPTION:🇵🇸 PACBI (nyc noise) +++&nbsp\;limited cap\,&nbsp\;RSVP 
 // starting occasional weekend WORK HANGS for people who wanna contribute 
 to nyc noise\, protest.one\, cal.red\, &amp\; other free community resourc
 es!!&nbsp\;ZERO SKILLS REQUIRED\; help flesh out may listings\, fill in pr
 otests\, copy out the flyers i don't see on insta\, whatev!! tech ppl\, ch
 eck out github (thnx /GREG) &amp\; vivien will be there for the Qs that i 
 can't answer!! :D
LOCATION:woodbine (585 Woodward Ave\, Queens\, NY 11385)
END:VEVENT
END:VCALENDAR
