BEGIN:VCALENDAR
BEGIN:VEVENT
SUMMARY:Ele-khle-kha\, Reckoner x Kastakila\, Nū [nycnoise]
DTSTART:20250512T000000Z
DTEND:20250512T010000Z
UID:d18f0bd5-996f-4b5c-a2bc-020e38854755
CREATED:20260420T145414Z
DESCRIPTION:🇵🇸 PACBI
LOCATION:cutelab
END:VEVENT
END:VCALENDAR
