BEGIN:VCALENDAR
BEGIN:VEVENT
SUMMARY:Madeline Hocking\, Sam Friedman\, Jack Beal & Adrienne Schoenfeld 
 [nycnoise]
DTSTART:20250517T000000Z
DTEND:20250517T010000Z
UID:345d1af9-3c88-4a6a-bcca-149b69df0724
CREATED:20260420T145602Z
DESCRIPTION:🇵🇸 PACBI
LOCATION:cutelab
END:VEVENT
END:VCALENDAR
