BEGIN:VCALENDAR
BEGIN:VEVENT
SUMMARY:Manu Miran\, Junior M\, Maya Margarita [nycnoise]
DTSTART:20250428T020000Z
DTEND:20250428T030000Z
UID:ca4cefcc-3830-4f20-83be-e1dae8236650
CREATED:20260420T145338Z
DESCRIPTION:🇵🇸 PACBI 
LOCATION:bossa nova civic club (1271 myrtle ave\, brooklyn)
END:VEVENT
END:VCALENDAR
