BEGIN:VCALENDAR
BEGIN:VEVENT
SUMMARY:Illegal Rhythm presents: Andres Garcil\, Saint Velez\, Namuna Rani
  [nycnoise]
DTSTART:20250501T020000Z
DTEND:20250501T030000Z
UID:b1f12e16-e938-42c4-a05a-0bd05ea6ea9b
CREATED:20260420T145602Z
DESCRIPTION:🇵🇸 PACBI
LOCATION:bossa nova civic club (1271 myrtle ave\, brooklyn)
END:VEVENT
END:VCALENDAR
