BEGIN:VCALENDAR
BEGIN:VEVENT
SUMMARY:Synthicide: Club Drippy\, LLORA\, Andi [nycnoise]
DTSTART:20250502T020000Z
DTEND:20250502T030000Z
UID:7ccdfadd-c68a-4554-b5b1-f7b74309414c
CREATED:20260420T145248Z
DESCRIPTION:🇵🇸 PACBI
LOCATION:bossa nova civic club (1271 myrtle ave\, brooklyn)
END:VEVENT
END:VCALENDAR
